BEGIN:VCALENDAR
VERSION:2.0
PRODID:-//NMUG - ECPv6.15.7//NONSGML v1.0//EN
CALSCALE:GREGORIAN
METHOD:PUBLISH
X-WR-CALNAME:NMUG
X-ORIGINAL-URL:https://naplesmug.com
X-WR-CALDESC:Events for NMUG
REFRESH-INTERVAL;VALUE=DURATION:PT1H
X-Robots-Tag:noindex
X-PUBLISHED-TTL:PT1H
BEGIN:VTIMEZONE
TZID:America/Detroit
BEGIN:DAYLIGHT
TZOFFSETFROM:-0500
TZOFFSETTO:-0400
TZNAME:EDT
DTSTART:20240310T070000
END:DAYLIGHT
BEGIN:STANDARD
TZOFFSETFROM:-0400
TZOFFSETTO:-0500
TZNAME:EST
DTSTART:20241103T060000
END:STANDARD
BEGIN:DAYLIGHT
TZOFFSETFROM:-0500
TZOFFSETTO:-0400
TZNAME:EDT
DTSTART:20250309T070000
END:DAYLIGHT
BEGIN:STANDARD
TZOFFSETFROM:-0400
TZOFFSETTO:-0500
TZNAME:EST
DTSTART:20251102T060000
END:STANDARD
BEGIN:DAYLIGHT
TZOFFSETFROM:-0500
TZOFFSETTO:-0400
TZNAME:EDT
DTSTART:20260308T070000
END:DAYLIGHT
BEGIN:STANDARD
TZOFFSETFROM:-0400
TZOFFSETTO:-0500
TZNAME:EST
DTSTART:20261101T060000
END:STANDARD
END:VTIMEZONE
BEGIN:VEVENT
DTSTART;TZID=America/Detroit:20250301T100000
DTEND;TZID=America/Detroit:20250301T123000
DTSTAMP:20260421T113443
CREATED:20241113T161320Z
LAST-MODIFIED:20250822T223131Z
UID:10000154-1740823200-1740832200@naplesmug.com
SUMMARY:MacOS and iOS: Photos
DESCRIPTION:The Photos app holds more than just photos. The Photos app holds exciting and fond memories\, deep thoughts\, overwhelming emotions of our most exciting and everyday experiences\, along with a receipt or two\, or 20. The Photos app has been redesigned and new features have been added\, along with Apple Intelligence integration\, to help you better access what you are looking for. Photos can be organized by topic\, collections are automatically organized by theme\, Pin your most important albums\, customize to get a more personal experience\, find those pesky duplicates. Christian Boyce “the Mac Man” will walk you through the redesign and new features of Photos on your devices\, with his own added insights that you can get no where else! \n\n\nAre you a member? Log in to view the Meeting. Not a member? Join today!
URL:https://naplesmug.com/event/macos-and-ios-photos/
CATEGORIES:Classes
ATTACH;FMTTYPE=image/jpeg:https://naplesmug.com/wp-content/uploads/2024/11/09-Photos-Class-File-1600px572px.jpg
LOCATION:https://naplesmug.com/event/macos-and-ios-photos/
END:VEVENT
BEGIN:VEVENT
DTSTART;TZID=America/Detroit:20250305T113000
DTEND;TZID=America/Detroit:20250305T124500
DTSTAMP:20260421T113443
CREATED:20241126T194403Z
LAST-MODIFIED:20250607T191951Z
UID:10000160-1741174200-1741178700@naplesmug.com
SUMMARY:AppleCare
DESCRIPTION:Dave McGuire takes a deep dive into AppleCare\, Apple’s extended warranty and support program. Dave will explore the value of AppleCare for Mac users\, breaking down its costs\, coverage\, and benefits. With real-world examples and expert advice\, he’ll answer pressing questions like\, “Is AppleCare worth it?” and “What does it really cover?” Whether you’re a seasoned Apple enthusiast or a new Mac owner\, this session will help you make informed decisions about protecting your devices. Don’t miss this opportunity to get clarity on AppleCare and bring your questions to the discussion! \n\n\n\nAre you a member? Log in to view the Zoom Meeting. Not a member? Join today!
URL:https://naplesmug.com/event/applecare/
CATEGORIES:Weekly Meetings
ATTACH;FMTTYPE=image/jpeg:https://naplesmug.com/wp-content/uploads/2024/11/950048b8-728d-46bf-a686-b837f7469721.jpg
LOCATION:https://naplesmug.com/event/applecare/
END:VEVENT
BEGIN:VEVENT
DTSTART;TZID=America/Detroit:20250308T100000
DTEND;TZID=America/Detroit:20250308T123000
DTSTAMP:20260421T113443
CREATED:20241113T161320Z
LAST-MODIFIED:20250822T223039Z
UID:10000155-1741428000-1741437000@naplesmug.com
SUMMARY:Security and Privacy
DESCRIPTION:Apple designs security into the core of its platforms. From hardware security and biometrics\, encryption and data protection\, a safe app ecosystem\, to password management\, Apple has created security architectures that address the unique requirements of mobile\, watch\, desktop\, and home. But\, there are always threats to your security and your privacy that you may be allowing to enter\, that may be mandated by laws\, or threats that seem so benign. Data Forensics Cybersecurity expert\, Apple Professional Agent\, and Apple Authorized Affiliate\, Dennis DiGiacomo will give you invaluable information about what threats are out there and how to help keep you and your devices safer.\n\n\nAre you a member? Log in to view the Meeting. Not a member? Join today!
URL:https://naplesmug.com/event/security-and-privacy-2/
CATEGORIES:Classes
ATTACH;FMTTYPE=image/jpeg:https://naplesmug.com/wp-content/uploads/2024/11/10-Security-and-Privacy1600px572px.jpg
LOCATION:https://naplesmug.com/event/security-and-privacy-2/
END:VEVENT
BEGIN:VEVENT
DTSTART;TZID=America/Detroit:20250312T113000
DTEND;TZID=America/Detroit:20250312T124500
DTSTAMP:20260421T113443
CREATED:20241205T165323Z
LAST-MODIFIED:20250607T192009Z
UID:10000163-1741779000-1741783500@naplesmug.com
SUMMARY:AstroPad’s Luna Display: Turn your iPad/Mac into a Wireless second display
DESCRIPTION:“The Luna Display is a small device that when connected to your Desktop will allow three possible display configurations: Mac to iPad\, Mac to Mac\, and Headless Mode. We will walk through the setup for all three modes\, but the focus will be on demonstrating the big win\, Headless Mode. If you have a Mac Mini and an iPad (as I do)\, come have a “Whoa!” moment with me!” \n\n\n \nAre you a member? Log in to view the Zoom Meeting. Not a member? Join today!
URL:https://naplesmug.com/event/creative-uses-of-chatgpt/
CATEGORIES:Weekly Meetings
ATTACH;FMTTYPE=image/jpeg:https://naplesmug.com/wp-content/uploads/2025/02/d5g0i99gida.jpg
LOCATION:https://naplesmug.com/event/creative-uses-of-chatgpt/
END:VEVENT
BEGIN:VEVENT
DTSTART;TZID=America/Detroit:20250319T113000
DTEND;TZID=America/Detroit:20250319T124500
DTSTAMP:20260421T113443
CREATED:20250106T164641Z
LAST-MODIFIED:20250607T192027Z
UID:10000166-1742383800-1742388300@naplesmug.com
SUMMARY:Elgato Stream Deck and BetterTouch Tools
DESCRIPTION:Elgato’s Stream Deck is a tool that can turbo-charge your workflows — but BetterTouchTool can take that to the next level! Ferrers will start by examining what a Stream Deck is and then explore BetterTouchTool. His practical demonstration will illustrate how you can very simply construct a button to launch an application and then progress… All this is accompanied by a comprehensive guide with many annotated screenshots that’ll walk you through the process step by step. \n\n\n \nAre you a member? Log in to view the Zoom Meeting. Not a member? Join today!
URL:https://naplesmug.com/event/elgato-streamdeck-and-bettertouch-tools/
CATEGORIES:Weekly Meetings
ATTACH;FMTTYPE=image/jpeg:https://naplesmug.com/wp-content/uploads/2025/01/CleanShot-2025-01-06-at-11.47.18@2x-Large.jpeg
LOCATION:https://naplesmug.com/event/elgato-streamdeck-and-bettertouch-tools/
END:VEVENT
BEGIN:VEVENT
DTSTART;TZID=America/Detroit:20250326T113000
DTEND;TZID=America/Detroit:20250326T124500
DTSTAMP:20260421T113443
CREATED:20250106T163557Z
LAST-MODIFIED:20250607T192055Z
UID:10000165-1742988600-1742993100@naplesmug.com
SUMMARY:Migrate Purchases from one Apple Account to another
DESCRIPTION:For years\, Apple did not provide a way to migrate your purchased apps and digital content from one Apple account to another Apple account. This forced many users to re-purchase the same content. Now\, Apple is officially making it possible to migrate your digital purchases from one Apple account to another. But there are restrictions (a lot of them) and things you should know before you can start\, or if you can even start this process. Apple Certified Support Professional\, and Owner of Naples Mac Help\, Jeff Bohr will walk you through everything you need to know of this new development\, and get you on the right path of getting all of your content where you want it. \n\n\n \nAre you a member? Log in to view the Zoom Meeting. Not a member? Join today!
URL:https://naplesmug.com/event/voice-memos-app/
CATEGORIES:Weekly Meetings
ATTACH;FMTTYPE=image/jpeg:https://naplesmug.com/wp-content/uploads/2025/02/5_bakrgvkq8.jpg
LOCATION:https://naplesmug.com/event/voice-memos-app/
END:VEVENT
END:VCALENDAR