BEGIN:VCALENDAR
VERSION:2.0
PRODID:-//NMUG - ECPv6.15.7//NONSGML v1.0//EN
CALSCALE:GREGORIAN
METHOD:PUBLISH
X-WR-CALNAME:NMUG
X-ORIGINAL-URL:https://naplesmug.com
X-WR-CALDESC:Events for NMUG
REFRESH-INTERVAL;VALUE=DURATION:PT1H
X-Robots-Tag:noindex
X-PUBLISHED-TTL:PT1H
BEGIN:VTIMEZONE
TZID:America/Detroit
BEGIN:DAYLIGHT
TZOFFSETFROM:-0500
TZOFFSETTO:-0400
TZNAME:EDT
DTSTART:20250309T070000
END:DAYLIGHT
BEGIN:STANDARD
TZOFFSETFROM:-0400
TZOFFSETTO:-0500
TZNAME:EST
DTSTART:20251102T060000
END:STANDARD
BEGIN:DAYLIGHT
TZOFFSETFROM:-0500
TZOFFSETTO:-0400
TZNAME:EDT
DTSTART:20260308T070000
END:DAYLIGHT
BEGIN:STANDARD
TZOFFSETFROM:-0400
TZOFFSETTO:-0500
TZNAME:EST
DTSTART:20261101T060000
END:STANDARD
BEGIN:DAYLIGHT
TZOFFSETFROM:-0500
TZOFFSETTO:-0400
TZNAME:EDT
DTSTART:20270314T070000
END:DAYLIGHT
BEGIN:STANDARD
TZOFFSETFROM:-0400
TZOFFSETTO:-0500
TZNAME:EST
DTSTART:20271107T060000
END:STANDARD
END:VTIMEZONE
BEGIN:VEVENT
DTSTART;TZID=America/Detroit:20260527T113000
DTEND;TZID=America/Detroit:20260527T124500
DTSTAMP:20260418T062816
CREATED:20260403T153055Z
LAST-MODIFIED:20260403T153055Z
UID:10000227-1779881400-1779885900@naplesmug.com
SUMMARY:Getting Your Best Pictures Starts With Composition!
DESCRIPTION:There’s no single answer to what makes a great photograph\, but a strong composition is always an excellent start! It doesn’t matter what you shoot with today\, investing your energy into improving your compositions will always be richly rewarding! As a keen amateur photography with decades of experience Bart shares his guiding principles as well as some practical guidelines that have worked well for him over the years. \n\n\nPlease log in to access this content. Not a member yet? Join NMUG today.
URL:https://naplesmug.com/event/getting-your-best-pictures-starts-with-composition/
CATEGORIES:Weekly Meetings
ATTACH;FMTTYPE=image/jpeg:https://naplesmug.com/wp-content/uploads/2026/04/ukfmlbto6oc.jpg
LOCATION:https://naplesmug.com/event/getting-your-best-pictures-starts-with-composition/
END:VEVENT
END:VCALENDAR