BEGIN:VCALENDAR
VERSION:2.0
PRODID:-//NMUG - ECPv6.15.7//NONSGML v1.0//EN
CALSCALE:GREGORIAN
METHOD:PUBLISH
X-ORIGINAL-URL:https://naplesmug.com
X-WR-CALDESC:Events for NMUG
REFRESH-INTERVAL;VALUE=DURATION:PT1H
X-Robots-Tag:noindex
X-PUBLISHED-TTL:PT1H
BEGIN:VTIMEZONE
TZID:America/Detroit
BEGIN:DAYLIGHT
TZOFFSETFROM:-0500
TZOFFSETTO:-0400
TZNAME:EDT
DTSTART:20220313T070000
END:DAYLIGHT
BEGIN:STANDARD
TZOFFSETFROM:-0400
TZOFFSETTO:-0500
TZNAME:EST
DTSTART:20221106T060000
END:STANDARD
BEGIN:DAYLIGHT
TZOFFSETFROM:-0500
TZOFFSETTO:-0400
TZNAME:EDT
DTSTART:20230312T070000
END:DAYLIGHT
BEGIN:STANDARD
TZOFFSETFROM:-0400
TZOFFSETTO:-0500
TZNAME:EST
DTSTART:20231105T060000
END:STANDARD
BEGIN:DAYLIGHT
TZOFFSETFROM:-0500
TZOFFSETTO:-0400
TZNAME:EDT
DTSTART:20240310T070000
END:DAYLIGHT
BEGIN:STANDARD
TZOFFSETFROM:-0400
TZOFFSETTO:-0500
TZNAME:EST
DTSTART:20241103T060000
END:STANDARD
BEGIN:DAYLIGHT
TZOFFSETFROM:-0500
TZOFFSETTO:-0400
TZNAME:EDT
DTSTART:20250309T070000
END:DAYLIGHT
BEGIN:STANDARD
TZOFFSETFROM:-0400
TZOFFSETTO:-0500
TZNAME:EST
DTSTART:20251102T060000
END:STANDARD
BEGIN:DAYLIGHT
TZOFFSETFROM:-0500
TZOFFSETTO:-0400
TZNAME:EDT
DTSTART:20260308T070000
END:DAYLIGHT
BEGIN:STANDARD
TZOFFSETFROM:-0400
TZOFFSETTO:-0500
TZNAME:EST
DTSTART:20261101T060000
END:STANDARD
END:VTIMEZONE
BEGIN:VEVENT
DTSTART;TZID=America/Detroit:20250917T113000
DTEND;TZID=America/Detroit:20250917T124500
DTSTAMP:20260418T215745
CREATED:20250717T170105Z
LAST-MODIFIED:20250930T161526Z
UID:10000181-1758108600-1758113100@naplesmug.com
SUMMARY:Digital Threats Show No Sign of Stopping! How Do You Stay Safe?
DESCRIPTION:Speaker\, Author and Consultant\, Carrie Kerskie is back! Are you concerned about Identity Theft\, Fraud\, and Cyberthreats? Who isn’t! “How do you stay safe in an online world when digital threats show no sign of stopping.”Carrie will advise about the latest security threats to your personal data\, money and everything in-between. Carrie will discuss the latest phishing schemes to look out for\, as you gain the knowledge you need to help protect yourself. \n\n\nPlease log in to access this content. Not a member yet? Join NMUG today.
URL:https://naplesmug.com/event/digital-threats-show-no-sign-of-stopping-how-do-you-stay-safe/
CATEGORIES:Weekly Meetings
ATTACH;FMTTYPE=image/jpeg:https://naplesmug.com/wp-content/uploads/2025/07/em5w9_xj3uu.jpg
LOCATION:https://naplesmug.com/event/digital-threats-show-no-sign-of-stopping-how-do-you-stay-safe/
END:VEVENT
BEGIN:VEVENT
DTSTART;TZID=America/Detroit:20230913T113000
DTEND;TZID=America/Detroit:20230913T124500
DTSTAMP:20260418T215745
CREATED:20230622T023936Z
LAST-MODIFIED:20230922T155726Z
UID:10000062-1694604600-1694609100@naplesmug.com
SUMMARY:Identity Theft\, Security\, and Cyber Culture
DESCRIPTION:Cyber Threats! What are the latest and many cyber-security risks against your personal and online security? Are you vulnerable? \nNMUG welcomes back good friend and a very special guest presenter\, cyber expert Carrie Kerskie! Her meeting was jam-packed with useful info. \nCarrie explained how identity theft is everywhere these days – you can buy someone’s personal info online for just 25 cents! She covered different types beyond financial ID theft\, like medical\, criminal\, and synthetic identity theft. She shared tips to help prevent ID theft\, like putting a credit freeze on your accounts and using strong passwords\, and she stressed being aware of the latest scams and validating anything that seems suspicious. Carrie also warned about new tricks like fake Facebook account emails and phone scams to get people to download remote access software. \nThroughout the session\, Carrie answered audience questions and offered tailored advice. She provided her contact info for anyone seeking more resources. The meeting gave a comprehensive overview of current ID theft risks and how to safeguard your personal information. \nPresident of Kerskie Group\, Carrie provides identity fraud and cyber threat risk management services to executives and private clients. Carrie has been featured in publications such as Consumer Reports\, KrebsOnSecurity.com\, and MarketWatch. She appears regularly on NBC\, ABC\, and FOX. \n\n\n\nThis is a teaser of our meeting. Are you a member? Log in to view the entire video. Not a member? Join today!
URL:https://naplesmug.com/event/identity-theft-security-and-cyber-culture/
CATEGORIES:Weekly Meetings
ATTACH;FMTTYPE=image/jpeg:https://naplesmug.com/wp-content/uploads/2023/06/tise_patt0a.jpg
END:VEVENT
END:VCALENDAR